BEGIN:VCALENDAR
VERSION:2.0
PRODID:-//Tukios.com/
BEGIN:VEVENT
UID:3301e120-5d90-4f27-baf1-d1d35f7f66f2@www.bataviafuneralhomes.com
DTSTAMP:20260423T222732Z
DTSTART:20260428T200000Z
DTEND:20260428T230000Z
SUMMARY:Visitation
DESCRIPTION:
URL:https://www.bataviafuneralhomes.com/obituaries/rose-tumminello
LOCATION:Bohm-Calarco-Smith Funeral Home 308 East Main Street  Batavia NY 
	14020
GEO:42.9964374;-78.1781088
END:VEVENT
END:VCALENDAR