BEGIN:VCALENDAR
VERSION:2.0
PRODID:-//Tukios.com/
BEGIN:VEVENT
UID:f48edf9a-b49b-420f-846e-bfd4eb4626e0@www.bataviafuneralhomes.com
DTSTAMP:20260423T223007Z
DTSTART:20260429T133000Z
DTEND:20260429T143000Z
SUMMARY:Mass of Christian Burial
DESCRIPTION:
URL:https://www.bataviafuneralhomes.com/obituaries/rose-tumminello
LOCATION:Resurrection Parish - St. Joseph's Church 303 East Main Street  
	Batavia NY 14020
GEO:42.9972703;-78.1783256
END:VEVENT
END:VCALENDAR