BEGIN:VCALENDAR
VERSION:2.0
PRODID:-//Tukios.com/
BEGIN:VEVENT
UID:74993d1a-bb44-485c-b173-fb00bfff7ecb@www.bataviafuneralhomes.com
DTSTAMP:20260421T060246Z
DTSTART:20260423T160000Z
DTEND:20260423T180000Z
SUMMARY:Visitation
DESCRIPTION:
URL:https://www.bataviafuneralhomes.com/obituaries/peter-quartieri
LOCATION:H.E Turner & Co. Inc. Funeral Home 51 South Lake Avenue  Bergen 
	NY 14416
GEO:43.0809064;-77.9433792
END:VEVENT
END:VCALENDAR