BEGIN:VCALENDAR
VERSION:2.0
PRODID:-//Tukios.com/
BEGIN:VEVENT
UID:ae19b93b-5ff2-4fe6-bd7c-a109b03fb016@www.bataviafuneralhomes.com
DTSTAMP:20260421T060246Z
DTSTART:20260423T180000Z
DTEND:20260423T190000Z
SUMMARY:Funeral Service
DESCRIPTION:
URL:https://www.bataviafuneralhomes.com/obituaries/peter-quartieri
LOCATION:H.E Turner & Co. Inc. Funeral Home 51 South Lake Avenue  Bergen 
	NY 14416
GEO:43.0809064;-77.9433792
END:VEVENT
END:VCALENDAR