BEGIN:VCALENDAR
VERSION:2.0
PRODID:-//Tukios.com/
BEGIN:VEVENT
UID:83029e95-db10-47d0-b309-0615e2631ebf@www.bataviafuneralhomes.com
DTSTAMP:20260422T042504Z
DTSTART:20260427T153000Z
DTEND:20260427T163000Z
SUMMARY:Mass
DESCRIPTION:
URL:https://www.bataviafuneralhomes.com/obituaries/mario-capozzolo
LOCATION:Resurrection Parish - St. Joseph's Site 303 East Main Street  
	Batavia NY 14020
GEO:42.9972876;-78.178375
END:VEVENT
END:VCALENDAR