BEGIN:VCALENDAR
VERSION:2.0
PRODID:-//Tukios.com/
BEGIN:VEVENT
UID:036ff415-db72-4665-948f-a9d76b07fd62@www.bataviafuneralhomes.com
DTSTAMP:20260422T042504Z
DTSTART:20260426T200000Z
DTEND:20260426T230000Z
SUMMARY:Visitation
DESCRIPTION:
URL:https://www.bataviafuneralhomes.com/obituaries/mario-capozzolo
LOCATION:H.E. Turner & Co. Funeral Home 403 East Main Street  Batavia NY 
	14020
GEO:42.9970549;-78.1762164
END:VEVENT
END:VCALENDAR