BEGIN:VCALENDAR
VERSION:2.0
PRODID:-//Tukios.com/
BEGIN:VEVENT
UID:f35e911c-296e-4dee-8b6b-6e55713bebfc@www.bataviafuneralhomes.com
DTSTAMP:20260419T183503Z
DTSTART:20260425T140000Z
DTEND:20260425T150000Z
SUMMARY:Burial
DESCRIPTION:
URL:https://www.bataviafuneralhomes.com/obituaries/john-kresock
LOCATION:  Clinton Street Road  Batavia NY 
GEO:43.0013714;-78.1513181
END:VEVENT
END:VCALENDAR