BEGIN:VCALENDAR
VERSION:2.0
PRODID:-//Tukios.com/
BEGIN:VEVENT
UID:be1ec3cd-fdd8-4918-9f8e-d1333c461183@www.bataviafuneralhomes.com
DTSTAMP:20260419T183829Z
DTSTART:20260425T130000Z
DTEND:20260425T140000Z
SUMMARY:Funeral Service
DESCRIPTION:
URL:https://www.bataviafuneralhomes.com/obituaries/john-kresock
LOCATION:Emmanuel Baptist Church 190 Oak St  Batavia NY 14020
GEO:43.014141;-78.1915923
END:VEVENT
END:VCALENDAR