BEGIN:VCALENDAR
VERSION:2.0
PRODID:-//Tukios.com/
BEGIN:VEVENT
UID:53b1bff6-02cf-4102-b8ed-b51f8d84afdb@www.bataviafuneralhomes.com
DTSTAMP:20260419T183710Z
DTSTART:20260424T220000Z
DTEND:20260425T000000Z
SUMMARY:Visitation
DESCRIPTION:
URL:https://www.bataviafuneralhomes.com/obituaries/john-kresock
LOCATION:Bohm-Calarco-Smith Funeral Home 308 E Main St  Batavia NY 14020
GEO:42.9964374;-78.1781088
END:VEVENT
END:VCALENDAR