BEGIN:VCALENDAR
VERSION:2.0
PRODID:-//Tukios.com/
BEGIN:VEVENT
UID:b443b876-6c26-4d1b-b700-4dda809dd1c3@www.bataviafuneralhomes.com
DTSTAMP:20260420T181728Z
DTSTART:20260423T200000Z
DTEND:20260423T230000Z
SUMMARY:Visitation
DESCRIPTION:
URL:https://www.bataviafuneralhomes.com/obituaries/delbert-van-buren
LOCATION:H.E. Turner & Co. Funeral Home 403 East Main Street  Batavia NY 
	14020
GEO:42.9970549;-78.1762164
END:VEVENT
END:VCALENDAR