BEGIN:VCALENDAR
VERSION:2.0
PRODID:-//Tukios.com/
BEGIN:VEVENT
UID:15249f42-950a-444b-b0e7-bc6b0eab0eae@www.bataviafuneralhomes.com
DTSTAMP:20260420T181947Z
DTSTART:20260424T150000Z
DTEND:20260424T153000Z
SUMMARY:Funeral Service
DESCRIPTION:
URL:https://www.bataviafuneralhomes.com/obituaries/delbert-van-buren
LOCATION:H.E. Turner & Co. Funeral Home 403 East Main Street  Batavia NY 
	14020
GEO:42.9970549;-78.1762164
END:VEVENT
END:VCALENDAR