BEGIN:VCALENDAR
VERSION:2.0
PRODID:-//Tukios.com/
BEGIN:VEVENT
UID:a14b87d1-a610-489c-9167-1b58d7f6e094@www.bataviafuneralhomes.com
DTSTAMP:20260420T212139Z
DTSTART:20260424T230000Z
DTEND:20260425T000000Z
SUMMARY:Funeral Service
DESCRIPTION:
URL:https://www.bataviafuneralhomes.com/obituaries/daniel-ivison
LOCATION:H. E. Turner & Company Inc. 51 South Lake Avenue  Bergen NY 
	14416
GEO:43.0809064;-77.9433792
END:VEVENT
END:VCALENDAR