BEGIN:VCALENDAR
VERSION:2.0
PRODID:-//Tukios.com/
BEGIN:VEVENT
UID:003b3998-1186-4bf2-8209-4d5e46246375@www.bataviafuneralhomes.com
DTSTAMP:20260420T211909Z
DTSTART:20260424T200000Z
DTEND:20260424T230000Z
SUMMARY:Visitation
DESCRIPTION:
URL:https://www.bataviafuneralhomes.com/obituaries/daniel-ivison
LOCATION:H. E. Turner & Company Inc. 51 South Lake Avenue  Bergen NY 
	14416
GEO:43.0809064;-77.9433792
END:VEVENT
END:VCALENDAR